BEGIN:VCALENDAR
VERSION:2.0
PRODID:Events Booking
BEGIN:VEVENT
UID:69eb4391e2ae2
SUMMARY:Étude Biblique
DESCRIPTION:Action de grâce
DTSTART:20251012T144000Z
DTEND:20251012T151000Z
DTSTAMP:20251007T214006Z
ORGANIZER:MAILTO:mich@enestrie.ca
END:VEVENT
END:VCALENDAR